BEGIN:VCALENDAR
VERSION:2.0
PRODID:-//Freiwillige Feuerwehr Winterbach - ECPv6.15.12.2//NONSGML v1.0//EN
CALSCALE:GREGORIAN
METHOD:PUBLISH
X-WR-CALNAME:Freiwillige Feuerwehr Winterbach
X-ORIGINAL-URL:https://feuerwehr-winterbach.de
X-WR-CALDESC:Veranstaltungen für Freiwillige Feuerwehr Winterbach
REFRESH-INTERVAL;VALUE=DURATION:PT1H
X-Robots-Tag:noindex
X-PUBLISHED-TTL:PT1H
BEGIN:VTIMEZONE
TZID:Europe/Berlin
BEGIN:DAYLIGHT
TZOFFSETFROM:+0100
TZOFFSETTO:+0200
TZNAME:CEST
DTSTART:20250330T010000
END:DAYLIGHT
BEGIN:STANDARD
TZOFFSETFROM:+0200
TZOFFSETTO:+0100
TZNAME:CET
DTSTART:20251026T010000
END:STANDARD
BEGIN:DAYLIGHT
TZOFFSETFROM:+0100
TZOFFSETTO:+0200
TZNAME:CEST
DTSTART:20260329T010000
END:DAYLIGHT
BEGIN:STANDARD
TZOFFSETFROM:+0200
TZOFFSETTO:+0100
TZNAME:CET
DTSTART:20261025T010000
END:STANDARD
BEGIN:DAYLIGHT
TZOFFSETFROM:+0100
TZOFFSETTO:+0200
TZNAME:CEST
DTSTART:20270328T010000
END:DAYLIGHT
BEGIN:STANDARD
TZOFFSETFROM:+0200
TZOFFSETTO:+0100
TZNAME:CET
DTSTART:20271031T010000
END:STANDARD
END:VTIMEZONE
BEGIN:VEVENT
DTSTART;TZID=Europe/Berlin:20261102T180000
DTEND;TZID=Europe/Berlin:20261102T180000
DTSTAMP:20260422T050653
CREATED:20251222T095855Z
LAST-MODIFIED:20251222T095855Z
UID:2380-1793642400-1793642400@feuerwehr-winterbach.de
SUMMARY:Atemschutzstrecke Fellbach
DESCRIPTION:
URL:https://feuerwehr-winterbach.de/event/atemschutzstrecke-fellbach/
CATEGORIES:Übung
END:VEVENT
BEGIN:VEVENT
DTSTART;TZID=Europe/Berlin:20261102T180000
DTEND;TZID=Europe/Berlin:20261102T200000
DTSTAMP:20260422T050653
CREATED:20260224T204223Z
LAST-MODIFIED:20260224T204223Z
UID:2502-1793642400-1793649600@feuerwehr-winterbach.de
SUMMARY:Ausflug
DESCRIPTION:Ausflug
URL:https://feuerwehr-winterbach.de/event/ausflug/
CATEGORIES:Jugendfeuerwehr
END:VEVENT
BEGIN:VEVENT
DTSTART;TZID=Europe/Berlin:20261105T200000
DTEND;TZID=Europe/Berlin:20261105T200000
DTSTAMP:20260422T050653
CREATED:20251222T095327Z
LAST-MODIFIED:20251222T095327Z
UID:2354-1793908800-1793908800@feuerwehr-winterbach.de
SUMMARY:Übung Führungskräfte - Gruppenführer\, Zugführer
DESCRIPTION:
URL:https://feuerwehr-winterbach.de/event/uebung-fuehrungskraefte-gruppenfuehrer-zugfuehrer-10/
CATEGORIES:Übung
END:VEVENT
BEGIN:VEVENT
DTSTART;TZID=Europe/Berlin:20261107T190000
DTEND;TZID=Europe/Berlin:20261107T190000
DTSTAMP:20260422T050653
CREATED:20251222T095327Z
LAST-MODIFIED:20251222T095327Z
UID:2355-1794078000-1794078000@feuerwehr-winterbach.de
SUMMARY:Übung\, Ausbildung - Einsatzabteilung
DESCRIPTION:
URL:https://feuerwehr-winterbach.de/event/uebung-ausbildung-einsatzabteilung-5/
CATEGORIES:Übung
END:VEVENT
BEGIN:VEVENT
DTSTART;TZID=Europe/Berlin:20261112T193000
DTEND;TZID=Europe/Berlin:20261112T193000
DTSTAMP:20260422T050653
CREATED:20251222T095327Z
LAST-MODIFIED:20251222T095327Z
UID:2356-1794511800-1794511800@feuerwehr-winterbach.de
SUMMARY:Atemschutzübung - 1. Zug
DESCRIPTION:
URL:https://feuerwehr-winterbach.de/event/atemschutzuebung-1-zug-3/
CATEGORIES:Übung
END:VEVENT
BEGIN:VEVENT
DTSTART;TZID=Europe/Berlin:20261114T000000
DTEND;TZID=Europe/Berlin:20261114T000000
DTSTAMP:20260422T050653
CREATED:20251222T095855Z
LAST-MODIFIED:20251222T095855Z
UID:2381-1794614400-1794614400@feuerwehr-winterbach.de
SUMMARY:Lampionumzug
DESCRIPTION:
URL:https://feuerwehr-winterbach.de/event/lampionumzug/
CATEGORIES:Event
END:VEVENT
BEGIN:VEVENT
DTSTART;TZID=Europe/Berlin:20261116T183000
DTEND;TZID=Europe/Berlin:20261116T200000
DTSTAMP:20260422T050653
CREATED:20260224T204223Z
LAST-MODIFIED:20260224T204223Z
UID:2503-1794853800-1794859200@feuerwehr-winterbach.de
SUMMARY:Vorbereitung Hammelessen - Stationen
DESCRIPTION:Vorbereitung Hammelessen – Stationen
URL:https://feuerwehr-winterbach.de/event/vorbereitung-hammelessen-stationen/
CATEGORIES:Jugendfeuerwehr
END:VEVENT
BEGIN:VEVENT
DTSTART;TZID=Europe/Berlin:20261117T180000
DTEND;TZID=Europe/Berlin:20261117T180000
DTSTAMP:20260422T050653
CREATED:20251222T095855Z
LAST-MODIFIED:20251222T095855Z
UID:2382-1794938400-1794938400@feuerwehr-winterbach.de
SUMMARY:Atemschutzstrecke Fellbach
DESCRIPTION:
URL:https://feuerwehr-winterbach.de/event/atemschutzstrecke-fellbach-2/
CATEGORIES:Übung
END:VEVENT
BEGIN:VEVENT
DTSTART;TZID=Europe/Berlin:20261119T190000
DTEND;TZID=Europe/Berlin:20261119T190000
DTSTAMP:20260422T050653
CREATED:20251222T095327Z
LAST-MODIFIED:20251222T095327Z
UID:2357-1795114800-1795114800@feuerwehr-winterbach.de
SUMMARY:Übung Führungsgruppe
DESCRIPTION:
URL:https://feuerwehr-winterbach.de/event/uebung-fuehrungsgruppe-7/
CATEGORIES:Übung
END:VEVENT
BEGIN:VEVENT
DTSTART;TZID=Europe/Berlin:20261121T183000
DTEND;TZID=Europe/Berlin:20261121T200000
DTSTAMP:20260422T050653
CREATED:20260224T204223Z
LAST-MODIFIED:20260224T204223Z
UID:2504-1795285800-1795291200@feuerwehr-winterbach.de
SUMMARY:Hammelessen (Lehenbachhalle)
DESCRIPTION:Hammelessen in der Lehenbachhalle
URL:https://feuerwehr-winterbach.de/event/hammelessen-lehenbachhalle/
CATEGORIES:Jugendfeuerwehr
END:VEVENT
BEGIN:VEVENT
DTSTART;TZID=Europe/Berlin:20261121T183000
DTEND;TZID=Europe/Berlin:20261121T235900
DTSTAMP:20260422T050653
CREATED:20251222T095327Z
LAST-MODIFIED:20251230T195936Z
UID:2358-1795285800-1795305540@feuerwehr-winterbach.de
SUMMARY:Hammelessen - Gesamte Wehr
DESCRIPTION:
URL:https://feuerwehr-winterbach.de/event/hammelessen-gesamte-wehr/
CATEGORIES:Event
END:VEVENT
BEGIN:VEVENT
DTSTART;TZID=Europe/Berlin:20261126T190000
DTEND;TZID=Europe/Berlin:20261126T190000
DTSTAMP:20260422T050653
CREATED:20251222T095337Z
LAST-MODIFIED:20251222T095337Z
UID:2359-1795719600-1795719600@feuerwehr-winterbach.de
SUMMARY:Übung Drohnengruppe
DESCRIPTION:
URL:https://feuerwehr-winterbach.de/event/uebung-drohnengruppe-6/
CATEGORIES:Übung
END:VEVENT
BEGIN:VEVENT
DTSTART;VALUE=DATE:20261129
DTEND;VALUE=DATE:20261130
DTSTAMP:20260422T050653
CREATED:20260224T204223Z
LAST-MODIFIED:20260224T204223Z
UID:2462-1795910400-1795996799@feuerwehr-winterbach.de
SUMMARY:Weihnachtsmarkt
DESCRIPTION:Weihnachtsmarkt
URL:https://feuerwehr-winterbach.de/event/__trashed-146/
CATEGORIES:Jugendfeuerwehr
END:VEVENT
BEGIN:VEVENT
DTSTART;VALUE=DATE:20261130
DTEND;VALUE=DATE:20261201
DTSTAMP:20260422T050653
CREATED:20260224T204223Z
LAST-MODIFIED:20260224T204223Z
UID:2505-1795996800-1796083199@feuerwehr-winterbach.de
SUMMARY:Aufräumen Weihnachtsmarkt - Spiel und Spaß
DESCRIPTION:Aufräumen Weihnachtsmarkt – Spiel und Spaß
URL:https://feuerwehr-winterbach.de/event/aufraeumen-weihnachtsmarkt-spiel-und-spass/
CATEGORIES:Jugendfeuerwehr
END:VEVENT
END:VCALENDAR