BEGIN:VCALENDAR
VERSION:2.0
PRODID:-//Freiwillige Feuerwehr Winterbach - ECPv6.15.12.2//NONSGML v1.0//EN
CALSCALE:GREGORIAN
METHOD:PUBLISH
X-WR-CALNAME:Freiwillige Feuerwehr Winterbach
X-ORIGINAL-URL:https://feuerwehr-winterbach.de
X-WR-CALDESC:Veranstaltungen für Freiwillige Feuerwehr Winterbach
REFRESH-INTERVAL;VALUE=DURATION:PT1H
X-Robots-Tag:noindex
X-PUBLISHED-TTL:PT1H
BEGIN:VTIMEZONE
TZID:Europe/Berlin
BEGIN:DAYLIGHT
TZOFFSETFROM:+0100
TZOFFSETTO:+0200
TZNAME:CEST
DTSTART:20250330T010000
END:DAYLIGHT
BEGIN:STANDARD
TZOFFSETFROM:+0200
TZOFFSETTO:+0100
TZNAME:CET
DTSTART:20251026T010000
END:STANDARD
BEGIN:DAYLIGHT
TZOFFSETFROM:+0100
TZOFFSETTO:+0200
TZNAME:CEST
DTSTART:20260329T010000
END:DAYLIGHT
BEGIN:STANDARD
TZOFFSETFROM:+0200
TZOFFSETTO:+0100
TZNAME:CET
DTSTART:20261025T010000
END:STANDARD
BEGIN:DAYLIGHT
TZOFFSETFROM:+0100
TZOFFSETTO:+0200
TZNAME:CEST
DTSTART:20270328T010000
END:DAYLIGHT
BEGIN:STANDARD
TZOFFSETFROM:+0200
TZOFFSETTO:+0100
TZNAME:CET
DTSTART:20271031T010000
END:STANDARD
END:VTIMEZONE
BEGIN:VEVENT
DTSTART;TZID=Europe/Berlin:20261001T190000
DTEND;TZID=Europe/Berlin:20261001T190000
DTSTAMP:20260422T032555
CREATED:20251222T095320Z
LAST-MODIFIED:20251222T095320Z
UID:2346-1790881200-1790881200@feuerwehr-winterbach.de
SUMMARY:Übung Drohnengruppe
DESCRIPTION:
URL:https://feuerwehr-winterbach.de/event/uebung-drohnengruppe-5/
CATEGORIES:Übung
END:VEVENT
BEGIN:VEVENT
DTSTART;TZID=Europe/Berlin:20261002T000000
DTEND;TZID=Europe/Berlin:20261002T000000
DTSTAMP:20260422T032555
CREATED:20251222T095855Z
LAST-MODIFIED:20251222T095855Z
UID:2379-1790899200-1790899200@feuerwehr-winterbach.de
SUMMARY:LZB Übung
DESCRIPTION:
URL:https://feuerwehr-winterbach.de/event/lzb-uebung-2/
CATEGORIES:Übung
END:VEVENT
BEGIN:VEVENT
DTSTART;TZID=Europe/Berlin:20261008T200000
DTEND;TZID=Europe/Berlin:20261008T200000
DTSTAMP:20260422T032555
CREATED:20251222T095320Z
LAST-MODIFIED:20251222T095320Z
UID:2347-1791489600-1791489600@feuerwehr-winterbach.de
SUMMARY:Übung Führungskräfte - Gruppenführer\, Zugführer
DESCRIPTION:
URL:https://feuerwehr-winterbach.de/event/uebung-fuehrungskraefte-gruppenfuehrer-zugfuehrer-9/
CATEGORIES:Übung
END:VEVENT
BEGIN:VEVENT
DTSTART;TZID=Europe/Berlin:20261010T190000
DTEND;TZID=Europe/Berlin:20261010T190000
DTSTAMP:20260422T032555
CREATED:20251222T095320Z
LAST-MODIFIED:20251222T095320Z
UID:2348-1791658800-1791658800@feuerwehr-winterbach.de
SUMMARY:Übung\, Ausbildung mit Weiler - Einsatzabteilung + Alterswehr
DESCRIPTION:
URL:https://feuerwehr-winterbach.de/event/uebung-ausbildung-mit-weiler-einsatzabteilung-alterswehr/
CATEGORIES:Übung
END:VEVENT
BEGIN:VEVENT
DTSTART;TZID=Europe/Berlin:20261012T183000
DTEND;TZID=Europe/Berlin:20261012T200000
DTSTAMP:20260422T032555
CREATED:20260224T204223Z
LAST-MODIFIED:20260224T204223Z
UID:2501-1791829800-1791835200@feuerwehr-winterbach.de
SUMMARY:Fahrzeugkunde
DESCRIPTION:Übung: Fahrzeugkunde
URL:https://feuerwehr-winterbach.de/event/fahrzeugkunde/
CATEGORIES:Jugendfeuerwehr
END:VEVENT
BEGIN:VEVENT
DTSTART;TZID=Europe/Berlin:20261015T193000
DTEND;TZID=Europe/Berlin:20261015T193000
DTSTAMP:20260422T032555
CREATED:20251222T095323Z
LAST-MODIFIED:20251222T095323Z
UID:2349-1792092600-1792092600@feuerwehr-winterbach.de
SUMMARY:Übung Maschinisten
DESCRIPTION:
URL:https://feuerwehr-winterbach.de/event/uebung-maschinisten-3/
CATEGORIES:Übung
END:VEVENT
BEGIN:VEVENT
DTSTART;TZID=Europe/Berlin:20261022T190000
DTEND;TZID=Europe/Berlin:20261022T190000
DTSTAMP:20260422T032555
CREATED:20251222T095323Z
LAST-MODIFIED:20251222T095323Z
UID:2350-1792695600-1792695600@feuerwehr-winterbach.de
SUMMARY:Übung Führungsgruppe
DESCRIPTION:
URL:https://feuerwehr-winterbach.de/event/uebung-fuehrungsgruppe-6/
CATEGORIES:Übung
END:VEVENT
BEGIN:VEVENT
DTSTART;TZID=Europe/Berlin:20261023T190000
DTEND;TZID=Europe/Berlin:20261023T190000
DTSTAMP:20260422T032555
CREATED:20251222T095324Z
LAST-MODIFIED:20251222T095324Z
UID:2352-1792782000-1792782000@feuerwehr-winterbach.de
SUMMARY:Zugübung - 3. Zug
DESCRIPTION:
URL:https://feuerwehr-winterbach.de/event/zuguebung-3-zug-4/
CATEGORIES:Übung
END:VEVENT
BEGIN:VEVENT
DTSTART;TZID=Europe/Berlin:20261023T193000
DTEND;TZID=Europe/Berlin:20261023T193000
DTSTAMP:20260422T032555
CREATED:20251222T095323Z
LAST-MODIFIED:20251222T095323Z
UID:2351-1792783800-1792783800@feuerwehr-winterbach.de
SUMMARY:Zugübung - 2. Zug
DESCRIPTION:
URL:https://feuerwehr-winterbach.de/event/zuguebung-2-zug-4/
CATEGORIES:Übung
END:VEVENT
BEGIN:VEVENT
DTSTART;TZID=Europe/Berlin:20261027T190000
DTEND;TZID=Europe/Berlin:20261027T190000
DTSTAMP:20260422T032555
CREATED:20251222T095324Z
LAST-MODIFIED:20251222T095324Z
UID:2353-1793127600-1793127600@feuerwehr-winterbach.de
SUMMARY:Ausschusssitzung - Ausschuss
DESCRIPTION:
URL:https://feuerwehr-winterbach.de/event/ausschusssitzung-ausschuss-4/
CATEGORIES:Sitzung
END:VEVENT
END:VCALENDAR