BEGIN:VCALENDAR
VERSION:2.0
PRODID:-//Freiwillige Feuerwehr Winterbach - ECPv6.15.12.2//NONSGML v1.0//EN
CALSCALE:GREGORIAN
METHOD:PUBLISH
X-WR-CALNAME:Freiwillige Feuerwehr Winterbach
X-ORIGINAL-URL:https://feuerwehr-winterbach.de
X-WR-CALDESC:Veranstaltungen für Freiwillige Feuerwehr Winterbach
REFRESH-INTERVAL;VALUE=DURATION:PT1H
X-Robots-Tag:noindex
X-PUBLISHED-TTL:PT1H
BEGIN:VTIMEZONE
TZID:Europe/Berlin
BEGIN:DAYLIGHT
TZOFFSETFROM:+0100
TZOFFSETTO:+0200
TZNAME:CEST
DTSTART:20250330T010000
END:DAYLIGHT
BEGIN:STANDARD
TZOFFSETFROM:+0200
TZOFFSETTO:+0100
TZNAME:CET
DTSTART:20251026T010000
END:STANDARD
BEGIN:DAYLIGHT
TZOFFSETFROM:+0100
TZOFFSETTO:+0200
TZNAME:CEST
DTSTART:20260329T010000
END:DAYLIGHT
BEGIN:STANDARD
TZOFFSETFROM:+0200
TZOFFSETTO:+0100
TZNAME:CET
DTSTART:20261025T010000
END:STANDARD
BEGIN:DAYLIGHT
TZOFFSETFROM:+0100
TZOFFSETTO:+0200
TZNAME:CEST
DTSTART:20270328T010000
END:DAYLIGHT
BEGIN:STANDARD
TZOFFSETFROM:+0200
TZOFFSETTO:+0100
TZNAME:CET
DTSTART:20271031T010000
END:STANDARD
END:VTIMEZONE
BEGIN:VEVENT
DTSTART;TZID=Europe/Berlin:20260305T200000
DTEND;TZID=Europe/Berlin:20260305T200000
DTSTAMP:20260421T102013
CREATED:20251222T094922Z
LAST-MODIFIED:20251222T094922Z
UID:2308-1772740800-1772740800@feuerwehr-winterbach.de
SUMMARY:Übung Führungskräfte - Gruppenführer\, Zugführer
DESCRIPTION:
URL:https://feuerwehr-winterbach.de/event/uebung-fuehrungskraefte-gruppenfuehrer-zugfuehrer-2/
CATEGORIES:Übung
END:VEVENT
BEGIN:VEVENT
DTSTART;TZID=Europe/Berlin:20260307T190000
DTEND;TZID=Europe/Berlin:20260307T190000
DTSTAMP:20260421T102013
CREATED:20251222T094926Z
LAST-MODIFIED:20251222T094926Z
UID:2309-1772910000-1772910000@feuerwehr-winterbach.de
SUMMARY:Übung\, Ausbildung - Einsatzabteilung
DESCRIPTION:
URL:https://feuerwehr-winterbach.de/event/uebung-ausbildung-einsatzabteilung/
CATEGORIES:Übung
END:VEVENT
BEGIN:VEVENT
DTSTART;TZID=Europe/Berlin:20260309T183000
DTEND;TZID=Europe/Berlin:20260309T200000
DTSTAMP:20260421T102013
CREATED:20260224T204414Z
LAST-MODIFIED:20260224T204414Z
UID:2490-1773081000-1773086400@feuerwehr-winterbach.de
SUMMARY:Löschübung
DESCRIPTION:Übung: Löschübung
URL:https://feuerwehr-winterbach.de/event/loeschuebung-2/
CATEGORIES:Jugendfeuerwehr
END:VEVENT
BEGIN:VEVENT
DTSTART;TZID=Europe/Berlin:20260312T190000
DTEND;TZID=Europe/Berlin:20260312T190000
DTSTAMP:20260421T102013
CREATED:20251222T094926Z
LAST-MODIFIED:20251222T094926Z
UID:2310-1773342000-1773342000@feuerwehr-winterbach.de
SUMMARY:Übung Drohnengruppe
DESCRIPTION:
URL:https://feuerwehr-winterbach.de/event/uebung-drohnengruppe-2/
CATEGORIES:Übung
END:VEVENT
BEGIN:VEVENT
DTSTART;TZID=Europe/Berlin:20260313T193000
DTEND;TZID=Europe/Berlin:20260313T193000
DTSTAMP:20260421T102013
CREATED:20251222T094926Z
LAST-MODIFIED:20251222T094926Z
UID:2311-1773430200-1773430200@feuerwehr-winterbach.de
SUMMARY:Zugübung - 1. Zug
DESCRIPTION:
URL:https://feuerwehr-winterbach.de/event/zuguebung-1-zug-2/
CATEGORIES:Übung
END:VEVENT
BEGIN:VEVENT
DTSTART;TZID=Europe/Berlin:20260319T193000
DTEND;TZID=Europe/Berlin:20260319T193000
DTSTAMP:20260421T102013
CREATED:20251222T094926Z
LAST-MODIFIED:20251222T094926Z
UID:2312-1773948600-1773948600@feuerwehr-winterbach.de
SUMMARY:Atemschutzübung - 2. + 3. Zug
DESCRIPTION:
URL:https://feuerwehr-winterbach.de/event/atemschutzuebung-2-3-zug/
CATEGORIES:Übung
END:VEVENT
BEGIN:VEVENT
DTSTART;TZID=Europe/Berlin:20260320T190000
DTEND;TZID=Europe/Berlin:20260320T190000
DTSTAMP:20260421T102013
CREATED:20251222T094926Z
LAST-MODIFIED:20251222T094926Z
UID:2313-1774033200-1774033200@feuerwehr-winterbach.de
SUMMARY:Übung Führungsgruppe
DESCRIPTION:
URL:https://feuerwehr-winterbach.de/event/uebung-fuehrungsgruppe-2/
CATEGORIES:Übung
END:VEVENT
BEGIN:VEVENT
DTSTART;TZID=Europe/Berlin:20260321T000000
DTEND;TZID=Europe/Berlin:20260321T000000
DTSTAMP:20260421T102013
CREATED:20251222T095839Z
LAST-MODIFIED:20251222T095839Z
UID:2370-1774051200-1774051200@feuerwehr-winterbach.de
SUMMARY:Kameradschaftsabend Musikverein/Feuerwehr
DESCRIPTION:
URL:https://feuerwehr-winterbach.de/event/kameradschaftsabend-musikverein-feuerwehr/
CATEGORIES:Event
END:VEVENT
BEGIN:VEVENT
DTSTART;TZID=Europe/Berlin:20260323T183000
DTEND;TZID=Europe/Berlin:20260323T200000
DTSTAMP:20260421T102013
CREATED:20260224T204414Z
LAST-MODIFIED:20260224T204414Z
UID:2491-1774290600-1774296000@feuerwehr-winterbach.de
SUMMARY:Technische Hilfe
DESCRIPTION:Übung: Technische Hilfe
URL:https://feuerwehr-winterbach.de/event/technische-hilfe/
CATEGORIES:Jugendfeuerwehr
END:VEVENT
BEGIN:VEVENT
DTSTART;TZID=Europe/Berlin:20260326T193000
DTEND;TZID=Europe/Berlin:20260326T193000
DTSTAMP:20260421T102013
CREATED:20251222T094937Z
LAST-MODIFIED:20251222T094937Z
UID:2314-1774553400-1774553400@feuerwehr-winterbach.de
SUMMARY:Atemschutzübung - 1. Zug
DESCRIPTION:
URL:https://feuerwehr-winterbach.de/event/atemschutzuebung-1-zug/
CATEGORIES:Übung
END:VEVENT
BEGIN:VEVENT
DTSTART;TZID=Europe/Berlin:20260327T000000
DTEND;TZID=Europe/Berlin:20260327T000000
DTSTAMP:20260421T102013
CREATED:20251222T095839Z
LAST-MODIFIED:20251222T095839Z
UID:2371-1774569600-1774569600@feuerwehr-winterbach.de
SUMMARY:LZB Übung
DESCRIPTION:
URL:https://feuerwehr-winterbach.de/event/lzb-uebung/
CATEGORIES:Übung
END:VEVENT
END:VCALENDAR