BEGIN:VCALENDAR
VERSION:2.0
PRODID:-//Freiwillige Feuerwehr Winterbach - ECPv6.15.12.2//NONSGML v1.0//EN
CALSCALE:GREGORIAN
METHOD:PUBLISH
X-ORIGINAL-URL:https://feuerwehr-winterbach.de
X-WR-CALDESC:Veranstaltungen für Freiwillige Feuerwehr Winterbach
REFRESH-INTERVAL;VALUE=DURATION:PT1H
X-Robots-Tag:noindex
X-PUBLISHED-TTL:PT1H
BEGIN:VTIMEZONE
TZID:Europe/Berlin
BEGIN:DAYLIGHT
TZOFFSETFROM:+0100
TZOFFSETTO:+0200
TZNAME:CEST
DTSTART:20250330T010000
END:DAYLIGHT
BEGIN:STANDARD
TZOFFSETFROM:+0200
TZOFFSETTO:+0100
TZNAME:CET
DTSTART:20251026T010000
END:STANDARD
BEGIN:DAYLIGHT
TZOFFSETFROM:+0100
TZOFFSETTO:+0200
TZNAME:CEST
DTSTART:20260329T010000
END:DAYLIGHT
BEGIN:STANDARD
TZOFFSETFROM:+0200
TZOFFSETTO:+0100
TZNAME:CET
DTSTART:20261025T010000
END:STANDARD
BEGIN:DAYLIGHT
TZOFFSETFROM:+0100
TZOFFSETTO:+0200
TZNAME:CEST
DTSTART:20270328T010000
END:DAYLIGHT
BEGIN:STANDARD
TZOFFSETFROM:+0200
TZOFFSETTO:+0100
TZNAME:CET
DTSTART:20271031T010000
END:STANDARD
END:VTIMEZONE
BEGIN:VEVENT
DTSTART;TZID=Europe/Berlin:20260720T183000
DTEND;TZID=Europe/Berlin:20260720T200000
DTSTAMP:20260421T141241
CREATED:20260224T204224Z
LAST-MODIFIED:20260224T204224Z
UID:2498-1784572200-1784577600@feuerwehr-winterbach.de
SUMMARY:Sommer-Abschlussübung - Gemeinsames Grillen
DESCRIPTION:Sommer-Abschlussübung mit gemeinsamem Grillen
URL:https://feuerwehr-winterbach.de/event/sommer-abschlussuebung-gemeinsames-grillen/
CATEGORIES:Jugendfeuerwehr
END:VEVENT
END:VCALENDAR